BEGIN:VCALENDAR
VERSION:2.0
PRODID:-//City Cricket Club - ECPv6.15.20//NONSGML v1.0//EN
CALSCALE:GREGORIAN
METHOD:PUBLISH
X-ORIGINAL-URL:https://citycricketclub.co.nz
X-WR-CALDESC:Events for City Cricket Club
REFRESH-INTERVAL;VALUE=DURATION:PT1H
X-Robots-Tag:noindex
X-PUBLISHED-TTL:PT1H
BEGIN:VTIMEZONE
TZID:Pacific/Auckland
BEGIN:STANDARD
TZOFFSETFROM:+1300
TZOFFSETTO:+1200
TZNAME:NZST
DTSTART:20150404T140000
END:STANDARD
BEGIN:DAYLIGHT
TZOFFSETFROM:+1200
TZOFFSETTO:+1300
TZNAME:NZDT
DTSTART:20150926T140000
END:DAYLIGHT
BEGIN:STANDARD
TZOFFSETFROM:+1300
TZOFFSETTO:+1200
TZNAME:NZST
DTSTART:20160402T140000
END:STANDARD
BEGIN:DAYLIGHT
TZOFFSETFROM:+1200
TZOFFSETTO:+1300
TZNAME:NZDT
DTSTART:20160924T140000
END:DAYLIGHT
BEGIN:STANDARD
TZOFFSETFROM:+1300
TZOFFSETTO:+1200
TZNAME:NZST
DTSTART:20170401T140000
END:STANDARD
BEGIN:DAYLIGHT
TZOFFSETFROM:+1200
TZOFFSETTO:+1300
TZNAME:NZDT
DTSTART:20170923T140000
END:DAYLIGHT
END:VTIMEZONE
BEGIN:VEVENT
DTSTART;TZID=Pacific/Auckland:20160214T000000
DTEND;TZID=Pacific/Auckland:20160214T060000
DTSTAMP:20260424T004338
CREATED:20150903T154722Z
LAST-MODIFIED:20150903T154725Z
UID:598-1455408000-1455429600@citycricketclub.co.nz
SUMMARY:City Prems vs Onerahi Central
DESCRIPTION:
URL:https://citycricketclub.co.nz/event/city-prems-vs-onerahi-central-2/
LOCATION:Cobham Oval\, Port Rd\, Whangarei
CATEGORIES:City Premier Fixtures
ATTACH;FMTTYPE=image/jpeg:https://citycricketclub.co.nz/wp-content/uploads/2015/07/banner-bg1.jpg
END:VEVENT
END:VCALENDAR